BEGIN:VCALENDAR
VERSION:2.0
PRODID:-//King Family Vineyards - ECPv6.15.17.1//NONSGML v1.0//EN
CALSCALE:GREGORIAN
METHOD:PUBLISH
X-WR-CALNAME:King Family Vineyards
X-ORIGINAL-URL:https://kingfamilyvineyards.com
X-WR-CALDESC:Events for King Family Vineyards
REFRESH-INTERVAL;VALUE=DURATION:PT1H
X-Robots-Tag:noindex
X-PUBLISHED-TTL:PT1H
BEGIN:VTIMEZONE
TZID:UTC
BEGIN:STANDARD
TZOFFSETFROM:+0000
TZOFFSETTO:+0000
TZNAME:UTC
DTSTART:20240101T000000
END:STANDARD
END:VTIMEZONE
BEGIN:VEVENT
DTSTART;TZID=UTC:20250129T170000
DTEND;TZID=UTC:20250129T200000
DTSTAMP:20260425T223847
CREATED:20250127T194000Z
LAST-MODIFIED:20250128T180128Z
UID:10000054-1738170000-1738180800@kingfamilyvineyards.com
SUMMARY:Harry Potter Trivia
DESCRIPTION:Our popular Harry Potter Trivia Night is making a return! Join us on Wednesday\, January 29th\, as we transform The Carriage House into The Great Hall once again! This event will be on a first-come\, first-served basis with our doors opening at 5PM. We are not accepting reservations for this event. We will continue to seat teams until we reach capacity for the evening! Brush up on your wizardly knowledge and invite your friends and family along to partake in the magic! This will consist of four thrilling rounds with prizes for each and one overall grand prize. Food trucks will be on-site for the evening – Smok Shak and Street Dog.
URL:https://kingfamilyvineyards.com/event/harry-potter-trivia/
ATTACH;FMTTYPE=image/png:https://kingfamilyvineyards.com/wp-content/uploads/2025/01/Harry-Potter-Trivia-Night-Postponed-2.png
END:VEVENT
END:VCALENDAR