BEGIN:VCALENDAR
VERSION:2.0
PRODID:-//King Family Vineyards - ECPv6.15.17.1//NONSGML v1.0//EN
CALSCALE:GREGORIAN
METHOD:PUBLISH
X-ORIGINAL-URL:https://kingfamilyvineyards.com
X-WR-CALDESC:Events for King Family Vineyards
REFRESH-INTERVAL;VALUE=DURATION:PT1H
X-Robots-Tag:noindex
X-PUBLISHED-TTL:PT1H
BEGIN:VTIMEZONE
TZID:UTC
BEGIN:STANDARD
TZOFFSETFROM:+0000
TZOFFSETTO:+0000
TZNAME:UTC
DTSTART:20240101T000000
END:STANDARD
END:VTIMEZONE
BEGIN:VEVENT
DTSTART;TZID=UTC:20250131T180000
DTEND;TZID=UTC:20250131T210000
DTSTAMP:20260425T210709
CREATED:20250122T211046Z
LAST-MODIFIED:20250122T211046Z
UID:10000039-1738346400-1738357200@kingfamilyvineyards.com
SUMMARY:Wine Dinner with The Catering Outfit
DESCRIPTION:Join us for an unforgettable wine dinner at King Family Vineyards\, crafted by our talented friends at The Catering Outfit. Savor six exquisite courses thoughtfully prepared by Executive Chef Walter Slawski\, each perfectly paired with our wines. Purchase your tickets through the event link! \n(P.S. If you’re a Wine Club member\, reach out to us for a discount code!)
URL:https://kingfamilyvineyards.com/event/wine-dinner-with-the-catering-outfit/
LOCATION:King Family Vineyards\, 6550 Roseland Farm\, Crozet\, 22932\, United States
ATTACH;FMTTYPE=image/png:https://kingfamilyvineyards.com/wp-content/uploads/2025/01/Wine-Dinner-January-31st-6-9.png
END:VEVENT
END:VCALENDAR