BEGIN:VCALENDAR
VERSION:2.0
PRODID:-//King Family Vineyards - ECPv6.15.17.1//NONSGML v1.0//EN
CALSCALE:GREGORIAN
METHOD:PUBLISH
X-ORIGINAL-URL:https://kingfamilyvineyards.com
X-WR-CALDESC:Events for King Family Vineyards
REFRESH-INTERVAL;VALUE=DURATION:PT1H
X-Robots-Tag:noindex
X-PUBLISHED-TTL:PT1H
BEGIN:VTIMEZONE
TZID:UTC
BEGIN:STANDARD
TZOFFSETFROM:+0000
TZOFFSETTO:+0000
TZNAME:UTC
DTSTART:20240101T000000
END:STANDARD
END:VTIMEZONE
BEGIN:VEVENT
DTSTART;TZID=UTC:20250315T110000
DTEND;TZID=UTC:20250315T160000
DTSTAMP:20260426T001119
CREATED:20250307T145133Z
LAST-MODIFIED:20250307T145832Z
UID:10000095-1742036400-1742054400@kingfamilyvineyards.com
SUMMARY:Smok Shak
DESCRIPTION:Local food truck\, Smok Shak\, will be at the vineyard from 11am – 4PM | Saturday\, March 15th.
URL:https://kingfamilyvineyards.com/event/smok-shak/
LOCATION:King Family Vineyards\, 6550 Roseland Farm\, Crozet\, 22932\, United States
END:VEVENT
END:VCALENDAR