BEGIN:VCALENDAR
VERSION:2.0
PRODID:-//King Family Vineyards - ECPv6.15.17.1//NONSGML v1.0//EN
CALSCALE:GREGORIAN
METHOD:PUBLISH
X-WR-CALNAME:King Family Vineyards
X-ORIGINAL-URL:https://kingfamilyvineyards.com
X-WR-CALDESC:Events for King Family Vineyards
REFRESH-INTERVAL;VALUE=DURATION:PT1H
X-Robots-Tag:noindex
X-PUBLISHED-TTL:PT1H
BEGIN:VTIMEZONE
TZID:UTC
BEGIN:STANDARD
TZOFFSETFROM:+0000
TZOFFSETTO:+0000
TZNAME:UTC
DTSTART:20240101T000000
END:STANDARD
END:VTIMEZONE
BEGIN:VEVENT
DTSTART;TZID=UTC:20250412T113000
DTEND;TZID=UTC:20250412T143000
DTSTAMP:20260426T001334
CREATED:20250325T144655Z
LAST-MODIFIED:20250325T144655Z
UID:10000102-1744457400-1744468200@kingfamilyvineyards.com
SUMMARY:Fly Fishing Fundamentals & Wine Tasting
DESCRIPTION:Ladies\, reserve your space for a unique and unforgettable fly fishing lesson – no experience necessary! The expert instructors at Ladyfish will provide all the gear and guidance you need\, making it easy and fun to learn. \nDuring this hands-on experience\, you’ll learn the essentials of fly fishing\, including: \n\nUnderstanding rods\, reels\, and flies\nMastering the art of casting\nCatching\, handling\, and releasing fish with care\nReading the water for a successful catch\n\nAll in a relaxed\, welcoming environment designed for beginners. Plus\, you’ll enjoy the stunning vineyard views and the chance to connect with fellow women while discovering a new skill! \nWhat’s Included: \n\nKing Family Vineyards Wine Tasting\nGoody bag to take home\nAll equipment will be provided\n\nReserve your space through the link here!
URL:https://kingfamilyvineyards.com/event/fly-fishing-fundamentals-wine-tasting/
LOCATION:King Family Vineyards\, 6550 Roseland Farm\, Crozet\, 22932\, United States
ATTACH;FMTTYPE=image/heic:https://kingfamilyvineyards.com/wp-content/uploads/2025/03/DSC08537-2.jpg
END:VEVENT
END:VCALENDAR