BEGIN:VCALENDAR
VERSION:2.0
PRODID:-//King Family Vineyards - ECPv6.15.17.1//NONSGML v1.0//EN
CALSCALE:GREGORIAN
METHOD:PUBLISH
X-WR-CALNAME:King Family Vineyards
X-ORIGINAL-URL:https://kingfamilyvineyards.com
X-WR-CALDESC:Events for King Family Vineyards
REFRESH-INTERVAL;VALUE=DURATION:PT1H
X-Robots-Tag:noindex
X-PUBLISHED-TTL:PT1H
BEGIN:VTIMEZONE
TZID:UTC
BEGIN:STANDARD
TZOFFSETFROM:+0000
TZOFFSETTO:+0000
TZNAME:UTC
DTSTART:20240101T000000
END:STANDARD
END:VTIMEZONE
BEGIN:VEVENT
DTSTART;TZID=UTC:20250215T110000
DTEND;TZID=UTC:20250215T160000
DTSTAMP:20260425T175506
CREATED:20250128T165019Z
LAST-MODIFIED:20250128T165019Z
UID:10000078-1739617200-1739635200@kingfamilyvineyards.com
SUMMARY:A Vineyard Valentine
DESCRIPTION:Join us for our annual Vineyard Valentine event at King Family Vineyards! We’re thrilled to have our friends at The Catering Outfit provide an assorted à la carte menu including a fresh and roasted oyster bar. Live music will be performed throughout the event and your favorite KFV wines will be available at a wine bar including our NEW 2024 Crosé! Everyone is welcome\, so whether it be a date day\, a girls trip\, or a family outing – we’re excited to have you visit us for this event! No reservations or tickets are required.
URL:https://kingfamilyvineyards.com/event/a-vineyard-valentine/
LOCATION:King Family Vineyards\, 6550 Roseland Farm\, Crozet\, 22932\, United States
ATTACH;FMTTYPE=image/png:https://kingfamilyvineyards.com/wp-content/uploads/2025/01/Vineyard-Valentine.png
END:VEVENT
BEGIN:VEVENT
DTSTART;TZID=UTC:20250222T130000
DTEND;TZID=UTC:20250222T150000
DTSTAMP:20260425T175506
CREATED:20250217T201314Z
LAST-MODIFIED:20250217T201429Z
UID:10000080-1740229200-1740236400@kingfamilyvineyards.com
SUMMARY:Winemaker Barrel Tasting
DESCRIPTION:Immerse yourself in the art of winemaking as you experience the evolution of our wines through their intricate aging process. Gain firsthand insight into this journey from winery to bottle\, guided by our winemaker\, Matthieu Finot. \nLimited tickets are available\, so make sure you purchase yours before they sell out! \nSecure your space by purchasing HERE.
URL:https://kingfamilyvineyards.com/event/winemaker-barrel-tasting/
LOCATION:King Family Vineyards\, 6550 Roseland Farm\, Crozet\, 22932\, United States
ATTACH;FMTTYPE=image/jpeg:https://kingfamilyvineyards.com/wp-content/uploads/2025/02/Wine-Barrels.jpg
END:VEVENT
BEGIN:VEVENT
DTSTART;TZID=UTC:20250226T180000
DTEND;TZID=UTC:20250226T193000
DTSTAMP:20260425T175506
CREATED:20250219T155323Z
LAST-MODIFIED:20250219T155323Z
UID:10000076-1740592800-1740598200@kingfamilyvineyards.com
SUMMARY:Library Tasting with Matthieu Finot
DESCRIPTION:Join us for an elevated experience in the intimate setting of our Library room\, hosted by our winemaker\, Matthieu Finot. During this special event\, you’ll have the opportunity to explore four carefully selected library wines alongside four of our current offerings. Matthieu will guide you through each wine\, sharing in-depth insights into their unique characteristics\, influenced by varying harvest conditions and aging in the bottle. Purchase your tickets here.
URL:https://kingfamilyvineyards.com/event/library-tasting-with-matthieu-finot-2/
LOCATION:King Family Vineyards\, 6550 Roseland Farm\, Crozet\, 22932\, United States
ATTACH;FMTTYPE=image/png:https://kingfamilyvineyards.com/wp-content/uploads/2024/10/Matthieu-Web.png
END:VEVENT
BEGIN:VEVENT
DTSTART;TZID=UTC:20250226T180000
DTEND;TZID=UTC:20250226T200000
DTSTAMP:20260425T175506
CREATED:20250217T200440Z
LAST-MODIFIED:20250219T154741Z
UID:10000079-1740592800-1740600000@kingfamilyvineyards.com
SUMMARY:80s Night Wine Wednesday
DESCRIPTION:Feeling nostalgic for your favorite decade? Step back in time with us at King Family Vineyards as we extend our hours until 8:30 PM for a fun-filled 1980s-themed evening! Get ready for a lively night of trivia and music bingo\, featuring all things ‘80s – from iconic movies and unforgettable music to the defining historical moments that shaped the era. \nBrush up on your knowledge of the decade! Show off your 1980s expertise and your team could walk away with gift card prizes to KFV. Don’t miss out on the chance to relive the best of the ’80s – it’s sure to be an unforgettable evening!
URL:https://kingfamilyvineyards.com/event/80s-night-wine-wednesday/
LOCATION:King Family Vineyards\, 6550 Roseland Farm\, Crozet\, 22932\, United States
ATTACH;FMTTYPE=image/png:https://kingfamilyvineyards.com/wp-content/uploads/2025/02/80s-night-4.png
END:VEVENT
END:VCALENDAR