BEGIN:VCALENDAR
VERSION:2.0
PRODID:-//King Family Vineyards - ECPv6.15.17.1//NONSGML v1.0//EN
CALSCALE:GREGORIAN
METHOD:PUBLISH
X-WR-CALNAME:King Family Vineyards
X-ORIGINAL-URL:https://kingfamilyvineyards.com
X-WR-CALDESC:Events for King Family Vineyards
REFRESH-INTERVAL;VALUE=DURATION:PT1H
X-Robots-Tag:noindex
X-PUBLISHED-TTL:PT1H
BEGIN:VTIMEZONE
TZID:UTC
BEGIN:STANDARD
TZOFFSETFROM:+0000
TZOFFSETTO:+0000
TZNAME:UTC
DTSTART:20240101T000000
END:STANDARD
END:VTIMEZONE
BEGIN:VEVENT
DTSTART;TZID=UTC:20250305T160000
DTEND;TZID=UTC:20250305T193000
DTSTAMP:20260425T162212
CREATED:20250223T175255Z
LAST-MODIFIED:20250303T145627Z
UID:10000087-1741190400-1741203000@kingfamilyvineyards.com
SUMMARY:Food Truck: Smok Shak
DESCRIPTION:Local food truck\, Smok Shak\, will be on-site from 4:00PM – 7:30PM for Wine Wednesday on March 5th.
URL:https://kingfamilyvineyards.com/event/food-truck-smok-shak/
LOCATION:King Family Vineyards\, 6550 Roseland Farm\, Crozet\, 22932\, United States
END:VEVENT
BEGIN:VEVENT
DTSTART;TZID=UTC:20250305T173000
DTEND;TZID=UTC:20250305T193000
DTSTAMP:20260425T162212
CREATED:20250304T195818Z
LAST-MODIFIED:20250304T195818Z
UID:10000088-1741195800-1741203000@kingfamilyvineyards.com
SUMMARY:King Brothers Tasting Room Talks
DESCRIPTION:Get ready for a fun-filled March with a popular event making its return! Every Wine Wednesday in March from 5:30–7:30PM\, we’re bringing the King Brothers back into the spotlight for Tasting Room Talks! \nJoin James\, Stuart\, and Carrington King as they hang out in the tasting room\, sharing stories from KFV’s journey both past and present\, giving sneak peeks into upcoming projects\, and\, of course\, enjoying a glass or two with you! \nThis series kicks off Wednesday\, March 5th\, and runs every Wednesday through March 26th. They can’t wait to share some laughs and raise a glass with everyone!
URL:https://kingfamilyvineyards.com/event/king-brothers-tasting-room-talks/2025-03-05/
LOCATION:King Family Vineyards\, 6550 Roseland Farm\, Crozet\, 22932\, United States
ATTACH;FMTTYPE=image/jpeg:https://kingfamilyvineyards.com/wp-content/uploads/2025/03/DSC02040-scaled.jpg
END:VEVENT
BEGIN:VEVENT
DTSTART;TZID=UTC:20250308T110000
DTEND;TZID=UTC:20250308T160000
DTSTAMP:20260425T162212
CREATED:20250307T144219Z
LAST-MODIFIED:20250307T144219Z
UID:10000092-1741431600-1741449600@kingfamilyvineyards.com
SUMMARY:Arepas on Wheels
DESCRIPTION:Local food truck\, Arepas on Wheels will be at the vineyard from 11am – 4PM | Saturday\, March 8th.
URL:https://kingfamilyvineyards.com/event/arepas-on-wheels/
LOCATION:King Family Vineyards\, 6550 Roseland Farm\, Crozet\, 22932\, United States
END:VEVENT
BEGIN:VEVENT
DTSTART;TZID=UTC:20250312T163000
DTEND;TZID=UTC:20250312T193000
DTSTAMP:20260425T162212
CREATED:20250307T144847Z
LAST-MODIFIED:20250307T144847Z
UID:10000094-1741797000-1741807800@kingfamilyvineyards.com
SUMMARY:Popitos Pizza
DESCRIPTION:Local food truck\, Popitos Pizza\, will be at the vineyard from 4:30-7:30pm | Wednesday\, March 12th.
URL:https://kingfamilyvineyards.com/event/popitos-pizza/
LOCATION:King Family Vineyards\, 6550 Roseland Farm\, Crozet\, 22932\, United States
END:VEVENT
BEGIN:VEVENT
DTSTART;TZID=UTC:20250312T173000
DTEND;TZID=UTC:20250312T193000
DTSTAMP:20260425T162212
CREATED:20250304T195818Z
LAST-MODIFIED:20250304T195818Z
UID:10000089-1741800600-1741807800@kingfamilyvineyards.com
SUMMARY:King Brothers Tasting Room Talks
DESCRIPTION:Get ready for a fun-filled March with a popular event making its return! Every Wine Wednesday in March from 5:30–7:30PM\, we’re bringing the King Brothers back into the spotlight for Tasting Room Talks! \nJoin James\, Stuart\, and Carrington King as they hang out in the tasting room\, sharing stories from KFV’s journey both past and present\, giving sneak peeks into upcoming projects\, and\, of course\, enjoying a glass or two with you! \nThis series kicks off Wednesday\, March 5th\, and runs every Wednesday through March 26th. They can’t wait to share some laughs and raise a glass with everyone!
URL:https://kingfamilyvineyards.com/event/king-brothers-tasting-room-talks/2025-03-12/
LOCATION:King Family Vineyards\, 6550 Roseland Farm\, Crozet\, 22932\, United States
ATTACH;FMTTYPE=image/jpeg:https://kingfamilyvineyards.com/wp-content/uploads/2025/03/DSC02040-scaled.jpg
END:VEVENT
BEGIN:VEVENT
DTSTART;TZID=UTC:20250312T173000
DTEND;TZID=UTC:20250312T193000
DTSTAMP:20260425T162212
CREATED:20250307T144710Z
LAST-MODIFIED:20250312T154907Z
UID:10000093-1741800600-1741807800@kingfamilyvineyards.com
SUMMARY:Wine Club Pickup Party
DESCRIPTION:Join us for Wine Wednesday and our quarterly wine club pickup party! Our friends at Popitos Pizza will be on-site starting at 4:30PM.
URL:https://kingfamilyvineyards.com/event/wine-club-pickup-party/
LOCATION:King Family Vineyards\, 6550 Roseland Farm\, Crozet\, 22932\, United States
END:VEVENT
BEGIN:VEVENT
DTSTART;TZID=UTC:20250315T110000
DTEND;TZID=UTC:20250315T160000
DTSTAMP:20260425T162212
CREATED:20250307T145133Z
LAST-MODIFIED:20250307T145832Z
UID:10000095-1742036400-1742054400@kingfamilyvineyards.com
SUMMARY:Smok Shak
DESCRIPTION:Local food truck\, Smok Shak\, will be at the vineyard from 11am – 4PM | Saturday\, March 15th.
URL:https://kingfamilyvineyards.com/event/smok-shak/
LOCATION:King Family Vineyards\, 6550 Roseland Farm\, Crozet\, 22932\, United States
END:VEVENT
BEGIN:VEVENT
DTSTART;TZID=UTC:20250319T163000
DTEND;TZID=UTC:20250319T193000
DTSTAMP:20260425T162212
CREATED:20250307T145318Z
LAST-MODIFIED:20250307T145523Z
UID:10000096-1742401800-1742412600@kingfamilyvineyards.com
SUMMARY:Smok Shak
DESCRIPTION:Local food truck\, Smok Shak\, will be at the vineyard from 4:30 – 7:30PM | Wednesday\, March 19th.
URL:https://kingfamilyvineyards.com/event/smok-shak-2/
LOCATION:King Family Vineyards\, 6550 Roseland Farm\, Crozet\, 22932\, United States
END:VEVENT
BEGIN:VEVENT
DTSTART;TZID=UTC:20250319T173000
DTEND;TZID=UTC:20250319T193000
DTSTAMP:20260425T162212
CREATED:20250304T195818Z
LAST-MODIFIED:20250304T195818Z
UID:10000090-1742405400-1742412600@kingfamilyvineyards.com
SUMMARY:King Brothers Tasting Room Talks
DESCRIPTION:Get ready for a fun-filled March with a popular event making its return! Every Wine Wednesday in March from 5:30–7:30PM\, we’re bringing the King Brothers back into the spotlight for Tasting Room Talks! \nJoin James\, Stuart\, and Carrington King as they hang out in the tasting room\, sharing stories from KFV’s journey both past and present\, giving sneak peeks into upcoming projects\, and\, of course\, enjoying a glass or two with you! \nThis series kicks off Wednesday\, March 5th\, and runs every Wednesday through March 26th. They can’t wait to share some laughs and raise a glass with everyone!
URL:https://kingfamilyvineyards.com/event/king-brothers-tasting-room-talks/2025-03-19/
LOCATION:King Family Vineyards\, 6550 Roseland Farm\, Crozet\, 22932\, United States
ATTACH;FMTTYPE=image/jpeg:https://kingfamilyvineyards.com/wp-content/uploads/2025/03/DSC02040-scaled.jpg
END:VEVENT
BEGIN:VEVENT
DTSTART;TZID=UTC:20250319T180000
DTEND;TZID=UTC:20250319T193000
DTSTAMP:20260425T162212
CREATED:20250127T224213Z
LAST-MODIFIED:20250219T154846Z
UID:10000077-1742407200-1742412600@kingfamilyvineyards.com
SUMMARY:Library Tasting with Matthieu Finot
DESCRIPTION:Join us for an elevated experience in the intimate setting of our Library room\, hosted by our winemaker\, Matthieu Finot. During this special event\, you’ll have the opportunity to explore four carefully selected library wines alongside four of our current offerings. Matthieu will guide you through each wine\, sharing in-depth insights into their unique characteristics\, influenced by varying harvest conditions and aging in the bottle. Purchase your tickets here.
URL:https://kingfamilyvineyards.com/event/library-tasting-with-matthieu-finot/2025-03-19/
LOCATION:King Family Vineyards\, 6550 Roseland Farm\, Crozet\, 22932\, United States
ATTACH;FMTTYPE=image/png:https://kingfamilyvineyards.com/wp-content/uploads/2024/10/Matthieu-Web.png
END:VEVENT
BEGIN:VEVENT
DTSTART;TZID=UTC:20250322T110000
DTEND;TZID=UTC:20250322T160000
DTSTAMP:20260425T162212
CREATED:20250307T145654Z
LAST-MODIFIED:20250307T145654Z
UID:10000097-1742641200-1742659200@kingfamilyvineyards.com
SUMMARY:Smok Shak
DESCRIPTION:Local food truck\, Smok Shak\, will be at the vineyard from 11AM – 4PM | Saturday\, March 22nd.
URL:https://kingfamilyvineyards.com/event/smok-shak-3/
LOCATION:King Family Vineyards\, 6550 Roseland Farm\, Crozet\, 22932\, United States
END:VEVENT
BEGIN:VEVENT
DTSTART;TZID=UTC:20250326T163000
DTEND;TZID=UTC:20250326T193000
DTSTAMP:20260425T162212
CREATED:20250317T133711Z
LAST-MODIFIED:20250317T133711Z
UID:10000098-1743006600-1743017400@kingfamilyvineyards.com
SUMMARY:Popitos Pizza
DESCRIPTION:Join us for Wine Wednesday and enjoy wood fried pizzas from our friends at Popitos Pizza\, on site from 4:30PM – 7:30PM.
URL:https://kingfamilyvineyards.com/event/popitos-pizza-2/
LOCATION:King Family Vineyards\, 6550 Roseland Farm\, Crozet\, 22932\, United States
END:VEVENT
BEGIN:VEVENT
DTSTART;TZID=UTC:20250326T173000
DTEND;TZID=UTC:20250326T193000
DTSTAMP:20260425T162212
CREATED:20250304T195818Z
LAST-MODIFIED:20250304T195818Z
UID:10000091-1743010200-1743017400@kingfamilyvineyards.com
SUMMARY:King Brothers Tasting Room Talks
DESCRIPTION:Get ready for a fun-filled March with a popular event making its return! Every Wine Wednesday in March from 5:30–7:30PM\, we’re bringing the King Brothers back into the spotlight for Tasting Room Talks! \nJoin James\, Stuart\, and Carrington King as they hang out in the tasting room\, sharing stories from KFV’s journey both past and present\, giving sneak peeks into upcoming projects\, and\, of course\, enjoying a glass or two with you! \nThis series kicks off Wednesday\, March 5th\, and runs every Wednesday through March 26th. They can’t wait to share some laughs and raise a glass with everyone!
URL:https://kingfamilyvineyards.com/event/king-brothers-tasting-room-talks/2025-03-26/
LOCATION:King Family Vineyards\, 6550 Roseland Farm\, Crozet\, 22932\, United States
ATTACH;FMTTYPE=image/jpeg:https://kingfamilyvineyards.com/wp-content/uploads/2025/03/DSC02040-scaled.jpg
END:VEVENT
BEGIN:VEVENT
DTSTART;TZID=UTC:20250329T110000
DTEND;TZID=UTC:20250329T160000
DTSTAMP:20260425T162212
CREATED:20250317T133911Z
LAST-MODIFIED:20250317T133911Z
UID:10000099-1743246000-1743264000@kingfamilyvineyards.com
SUMMARY:Smok Shak
DESCRIPTION:We’re excited to welcome local food truck\, Smok Shak\, on site from 11AM – 4PM.
URL:https://kingfamilyvineyards.com/event/smok-shak-4/
LOCATION:King Family Vineyards\, 6550 Roseland Farm\, Crozet\, 22932\, United States
END:VEVENT
END:VCALENDAR