BEGIN:VCALENDAR
VERSION:2.0
PRODID:-//King Family Vineyards - ECPv6.15.17.1//NONSGML v1.0//EN
CALSCALE:GREGORIAN
METHOD:PUBLISH
X-WR-CALNAME:King Family Vineyards
X-ORIGINAL-URL:https://kingfamilyvineyards.com
X-WR-CALDESC:Events for King Family Vineyards
REFRESH-INTERVAL;VALUE=DURATION:PT1H
X-Robots-Tag:noindex
X-PUBLISHED-TTL:PT1H
BEGIN:VTIMEZONE
TZID:UTC
BEGIN:STANDARD
TZOFFSETFROM:+0000
TZOFFSETTO:+0000
TZNAME:UTC
DTSTART:20250101T000000
END:STANDARD
END:VTIMEZONE
BEGIN:VEVENT
DTSTART;TZID=UTC:20260422T163000
DTEND;TZID=UTC:20260422T203000
DTSTAMP:20260421T183617
CREATED:20260217T173537Z
LAST-MODIFIED:20260319T162634Z
UID:10000157-1776875400-1776889800@kingfamilyvineyards.com
SUMMARY:Wine Wednesday
DESCRIPTION:Break up the midweek monotony and join us as we keep the tasting room open until 8:30pm every Wednesday! Unwind with a rotating lineup of local food trucks serving from 4:00–7:30pm\, then put your knowledge to the test at trivia in the pavilion starting at 6:00pm – with King Family Vineyards gift cards up for grabs. \nOur Wine Wednesday series runs from early March through the end of November\, giving you plenty of opportunities to enjoy sunsets with us on the farm!
URL:https://kingfamilyvineyards.com/event/wine-wednesday/2026-04-22/
LOCATION:King Family Vineyards\, 6550 Roseland Farm\, Crozet\, 22932\, United States
CATEGORIES:King Family Vineyards
ATTACH;FMTTYPE=image/png:https://kingfamilyvineyards.com/wp-content/uploads/2026/02/Wine-Wednesday-Thumbnail.png
END:VEVENT
BEGIN:VEVENT
DTSTART;TZID=UTC:20260425T100000
DTEND;TZID=UTC:20260426T170000
DTSTAMP:20260421T183617
CREATED:20260330T182051Z
LAST-MODIFIED:20260330T182051Z
UID:10000193-1777111200-1777222800@kingfamilyvineyards.com
SUMMARY:USPA Middle School Tournament
DESCRIPTION:Join us for a USPA Polo Middle School Tournament featuring talented young athletes competing in an exciting day of fast-paced polo action. \n\n\n\n\n\n\n\n\n\n\n\n\n\n\n\n \n\n\n\n\n\n 
URL:https://kingfamilyvineyards.com/event/uspa-middle-school-tournament-2/
CATEGORIES:Roseland Polo Club
ORGANIZER;CN="Roseland Polo Club":MAILTO:roselandpolo@kingfamilyvineyards.com
END:VEVENT
BEGIN:VEVENT
DTSTART;TZID=UTC:20260429T163000
DTEND;TZID=UTC:20260429T203000
DTSTAMP:20260421T183617
CREATED:20260217T173537Z
LAST-MODIFIED:20260319T162634Z
UID:10000158-1777480200-1777494600@kingfamilyvineyards.com
SUMMARY:Wine Wednesday
DESCRIPTION:Break up the midweek monotony and join us as we keep the tasting room open until 8:30pm every Wednesday! Unwind with a rotating lineup of local food trucks serving from 4:00–7:30pm\, then put your knowledge to the test at trivia in the pavilion starting at 6:00pm – with King Family Vineyards gift cards up for grabs. \nOur Wine Wednesday series runs from early March through the end of November\, giving you plenty of opportunities to enjoy sunsets with us on the farm!
URL:https://kingfamilyvineyards.com/event/wine-wednesday/2026-04-29/
LOCATION:King Family Vineyards\, 6550 Roseland Farm\, Crozet\, 22932\, United States
CATEGORIES:King Family Vineyards
ATTACH;FMTTYPE=image/png:https://kingfamilyvineyards.com/wp-content/uploads/2026/02/Wine-Wednesday-Thumbnail.png
END:VEVENT
END:VCALENDAR